BEGIN:VCALENDAR
VERSION:2.0
PRODID:-//St. Josephs Primary School - ECPv6.15.20//NONSGML v1.0//EN
CALSCALE:GREGORIAN
METHOD:PUBLISH
X-WR-CALNAME:St. Josephs Primary School
X-ORIGINAL-URL:https://www.stjosephstemplemore.ie
X-WR-CALDESC:Events for St. Josephs Primary School
REFRESH-INTERVAL;VALUE=DURATION:PT1H
X-Robots-Tag:noindex
X-PUBLISHED-TTL:PT1H
BEGIN:VTIMEZONE
TZID:Europe/London
BEGIN:DAYLIGHT
TZOFFSETFROM:+0000
TZOFFSETTO:+0100
TZNAME:BST
DTSTART:20250330T010000
END:DAYLIGHT
BEGIN:STANDARD
TZOFFSETFROM:+0100
TZOFFSETTO:+0000
TZNAME:GMT
DTSTART:20251026T010000
END:STANDARD
BEGIN:DAYLIGHT
TZOFFSETFROM:+0000
TZOFFSETTO:+0100
TZNAME:BST
DTSTART:20260329T010000
END:DAYLIGHT
BEGIN:STANDARD
TZOFFSETFROM:+0100
TZOFFSETTO:+0000
TZNAME:GMT
DTSTART:20261025T010000
END:STANDARD
BEGIN:DAYLIGHT
TZOFFSETFROM:+0000
TZOFFSETTO:+0100
TZNAME:BST
DTSTART:20270328T010000
END:DAYLIGHT
BEGIN:STANDARD
TZOFFSETFROM:+0100
TZOFFSETTO:+0000
TZNAME:GMT
DTSTART:20271031T010000
END:STANDARD
END:VTIMEZONE
BEGIN:VEVENT
DTSTART;VALUE=DATE:20260317
DTEND;VALUE=DATE:20260318
DTSTAMP:20260424T171843
CREATED:20260211T185600Z
LAST-MODIFIED:20260211T185600Z
UID:6997-1773705600-1773791999@www.stjosephstemplemore.ie
SUMMARY:Lá le Padraig
DESCRIPTION:
URL:https://www.stjosephstemplemore.ie/event/la-le-padraig/
END:VEVENT
BEGIN:VEVENT
DTSTART;TZID=Europe/London:20260330T080000
DTEND;TZID=Europe/London:20260410T170000
DTSTAMP:20260424T171843
CREATED:20260211T185642Z
LAST-MODIFIED:20260211T185642Z
UID:7001-1774857600-1775840400@www.stjosephstemplemore.ie
SUMMARY:Easter Holidays
DESCRIPTION:
URL:https://www.stjosephstemplemore.ie/event/easter-holidays-5/
END:VEVENT
END:VCALENDAR