BEGIN:VCALENDAR
VERSION:2.0
PRODID:-//St. Josephs Primary School - ECPv6.15.20//NONSGML v1.0//EN
CALSCALE:GREGORIAN
METHOD:PUBLISH
X-WR-CALNAME:St. Josephs Primary School
X-ORIGINAL-URL:https://www.stjosephstemplemore.ie
X-WR-CALDESC:Events for St. Josephs Primary School
REFRESH-INTERVAL;VALUE=DURATION:PT1H
X-Robots-Tag:noindex
X-PUBLISHED-TTL:PT1H
BEGIN:VTIMEZONE
TZID:Europe/London
BEGIN:DAYLIGHT
TZOFFSETFROM:+0000
TZOFFSETTO:+0100
TZNAME:BST
DTSTART:20240331T010000
END:DAYLIGHT
BEGIN:STANDARD
TZOFFSETFROM:+0100
TZOFFSETTO:+0000
TZNAME:GMT
DTSTART:20241027T010000
END:STANDARD
BEGIN:DAYLIGHT
TZOFFSETFROM:+0000
TZOFFSETTO:+0100
TZNAME:BST
DTSTART:20250330T010000
END:DAYLIGHT
BEGIN:STANDARD
TZOFFSETFROM:+0100
TZOFFSETTO:+0000
TZNAME:GMT
DTSTART:20251026T010000
END:STANDARD
BEGIN:DAYLIGHT
TZOFFSETFROM:+0000
TZOFFSETTO:+0100
TZNAME:BST
DTSTART:20260329T010000
END:DAYLIGHT
BEGIN:STANDARD
TZOFFSETFROM:+0100
TZOFFSETTO:+0000
TZNAME:GMT
DTSTART:20261025T010000
END:STANDARD
BEGIN:DAYLIGHT
TZOFFSETFROM:+0000
TZOFFSETTO:+0100
TZNAME:BST
DTSTART:20270328T010000
END:DAYLIGHT
BEGIN:STANDARD
TZOFFSETFROM:+0100
TZOFFSETTO:+0000
TZNAME:GMT
DTSTART:20271031T010000
END:STANDARD
END:VTIMEZONE
BEGIN:VEVENT
DTSTART;TZID=Europe/London:20251216T080000
DTEND;TZID=Europe/London:20251216T170000
DTSTAMP:20260424T213909
CREATED:20251202T145645Z
LAST-MODIFIED:20251202T145645Z
UID:6963-1765872000-1765904400@www.stjosephstemplemore.ie
SUMMARY:6th Class Christmas Parent Breakfasts
DESCRIPTION:
URL:https://www.stjosephstemplemore.ie/event/6th-class-christmas-parent-breakfasts/
END:VEVENT
BEGIN:VEVENT
DTSTART;TZID=Europe/London:20251217T190000
DTEND;TZID=Europe/London:20251217T190000
DTSTAMP:20260424T213909
CREATED:20251202T145740Z
LAST-MODIFIED:20251202T145740Z
UID:6967-1765998000-1765998000@www.stjosephstemplemore.ie
SUMMARY:Infant Christmas Performance at 7pm
DESCRIPTION:
URL:https://www.stjosephstemplemore.ie/event/infant-christmas-performance-at-7pm/
END:VEVENT
BEGIN:VEVENT
DTSTART;TZID=Europe/London:20251219T113000
DTEND;TZID=Europe/London:20260102T170000
DTSTAMP:20260424T213909
CREATED:20251202T145536Z
LAST-MODIFIED:20251202T145536Z
UID:6959-1766143800-1767373200@www.stjosephstemplemore.ie
SUMMARY:Christmas Holidays
DESCRIPTION:
URL:https://www.stjosephstemplemore.ie/event/christmas-holidays-7/
END:VEVENT
END:VCALENDAR