BEGIN:VCALENDAR
VERSION:2.0
PRODID:-//St. Josephs Primary School - ECPv6.15.20//NONSGML v1.0//EN
CALSCALE:GREGORIAN
METHOD:PUBLISH
X-ORIGINAL-URL:https://www.stjosephstemplemore.ie
X-WR-CALDESC:Events for St. Josephs Primary School
REFRESH-INTERVAL;VALUE=DURATION:PT1H
X-Robots-Tag:noindex
X-PUBLISHED-TTL:PT1H
BEGIN:VTIMEZONE
TZID:Europe/London
BEGIN:DAYLIGHT
TZOFFSETFROM:+0000
TZOFFSETTO:+0100
TZNAME:BST
DTSTART:20240331T010000
END:DAYLIGHT
BEGIN:STANDARD
TZOFFSETFROM:+0100
TZOFFSETTO:+0000
TZNAME:GMT
DTSTART:20241027T010000
END:STANDARD
BEGIN:DAYLIGHT
TZOFFSETFROM:+0000
TZOFFSETTO:+0100
TZNAME:BST
DTSTART:20250330T010000
END:DAYLIGHT
BEGIN:STANDARD
TZOFFSETFROM:+0100
TZOFFSETTO:+0000
TZNAME:GMT
DTSTART:20251026T010000
END:STANDARD
BEGIN:DAYLIGHT
TZOFFSETFROM:+0000
TZOFFSETTO:+0100
TZNAME:BST
DTSTART:20260329T010000
END:DAYLIGHT
BEGIN:STANDARD
TZOFFSETFROM:+0100
TZOFFSETTO:+0000
TZNAME:GMT
DTSTART:20261025T010000
END:STANDARD
END:VTIMEZONE
BEGIN:VEVENT
DTSTART;VALUE=DATE:20250203
DTEND;VALUE=DATE:20250204
DTSTAMP:20260425T140241
CREATED:20241122T141201Z
LAST-MODIFIED:20241122T142728Z
UID:6710-1738540800-1738627199@www.stjosephstemplemore.ie
SUMMARY:St Bridget's Public Holiday- No school
DESCRIPTION:
URL:https://www.stjosephstemplemore.ie/event/st-bridgets-public-holiday-no-school/
END:VEVENT
BEGIN:VEVENT
DTSTART;TZID=Europe/London:20250208T110000
DTEND;TZID=Europe/London:20250208T170000
DTSTAMP:20260425T140241
CREATED:20241122T141305Z
LAST-MODIFIED:20241122T141305Z
UID:6712-1739012400-1739034000@www.stjosephstemplemore.ie
SUMMARY:Peace Proms Concert in UL for 3rd-6th Classes
DESCRIPTION:
URL:https://www.stjosephstemplemore.ie/event/peace-proms-concert-in-ul-for-3rd-6th-classes/
END:VEVENT
BEGIN:VEVENT
DTSTART;VALUE=DATE:20250220
DTEND;VALUE=DATE:20250222
DTSTAMP:20260425T140241
CREATED:20241122T141349Z
LAST-MODIFIED:20241122T141349Z
UID:6714-1740009600-1740182399@www.stjosephstemplemore.ie
SUMMARY:February Midterm -No School
DESCRIPTION:
URL:https://www.stjosephstemplemore.ie/event/february-midterm-no-school/
END:VEVENT
END:VCALENDAR