BEGIN:VCALENDAR
VERSION:2.0
PRODID:-//St. Josephs Primary School - ECPv6.15.20//NONSGML v1.0//EN
CALSCALE:GREGORIAN
METHOD:PUBLISH
X-WR-CALNAME:St. Josephs Primary School
X-ORIGINAL-URL:https://www.stjosephstemplemore.ie
X-WR-CALDESC:Events for St. Josephs Primary School
REFRESH-INTERVAL;VALUE=DURATION:PT1H
X-Robots-Tag:noindex
X-PUBLISHED-TTL:PT1H
BEGIN:VTIMEZONE
TZID:Europe/London
BEGIN:DAYLIGHT
TZOFFSETFROM:+0000
TZOFFSETTO:+0100
TZNAME:BST
DTSTART:20190331T010000
END:DAYLIGHT
BEGIN:STANDARD
TZOFFSETFROM:+0100
TZOFFSETTO:+0000
TZNAME:GMT
DTSTART:20191027T010000
END:STANDARD
BEGIN:DAYLIGHT
TZOFFSETFROM:+0000
TZOFFSETTO:+0100
TZNAME:BST
DTSTART:20200329T010000
END:DAYLIGHT
BEGIN:STANDARD
TZOFFSETFROM:+0100
TZOFFSETTO:+0000
TZNAME:GMT
DTSTART:20201025T010000
END:STANDARD
BEGIN:DAYLIGHT
TZOFFSETFROM:+0000
TZOFFSETTO:+0100
TZNAME:BST
DTSTART:20210328T010000
END:DAYLIGHT
BEGIN:STANDARD
TZOFFSETFROM:+0100
TZOFFSETTO:+0000
TZNAME:GMT
DTSTART:20211031T010000
END:STANDARD
BEGIN:DAYLIGHT
TZOFFSETFROM:+0000
TZOFFSETTO:+0100
TZNAME:BST
DTSTART:20220327T010000
END:DAYLIGHT
BEGIN:STANDARD
TZOFFSETFROM:+0100
TZOFFSETTO:+0000
TZNAME:GMT
DTSTART:20221030T010000
END:STANDARD
BEGIN:DAYLIGHT
TZOFFSETFROM:+0000
TZOFFSETTO:+0100
TZNAME:BST
DTSTART:20230326T010000
END:DAYLIGHT
BEGIN:STANDARD
TZOFFSETFROM:+0100
TZOFFSETTO:+0000
TZNAME:GMT
DTSTART:20231029T010000
END:STANDARD
END:VTIMEZONE
BEGIN:VEVENT
DTSTART;TZID=Europe/London:20220521T080000
DTEND;TZID=Europe/London:20220521T170000
DTSTAMP:20260425T171907
CREATED:20220204T133612Z
LAST-MODIFIED:20220204T133612Z
UID:5415-1653120000-1653152400@www.stjosephstemplemore.ie
SUMMARY:First Holy Communion
DESCRIPTION:
URL:https://www.stjosephstemplemore.ie/event/first-holy-communion/
END:VEVENT
BEGIN:VEVENT
DTSTART;VALUE=DATE:20220502
DTEND;VALUE=DATE:20220503
DTSTAMP:20260425T171907
CREATED:20220201T214243Z
LAST-MODIFIED:20220201T214243Z
UID:5396-1651449600-1651535999@www.stjosephstemplemore.ie
SUMMARY:Bank Holiday
DESCRIPTION:
URL:https://www.stjosephstemplemore.ie/event/bank-holiday-5/
END:VEVENT
BEGIN:VEVENT
DTSTART;TZID=Europe/London:20220409T110000
DTEND;TZID=Europe/London:20220409T123000
DTSTAMP:20260425T171907
CREATED:20220204T124807Z
LAST-MODIFIED:20220204T124807Z
UID:5413-1649502000-1649507400@www.stjosephstemplemore.ie
SUMMARY:Confirmation (5th and 6th Class)
DESCRIPTION:
URL:https://www.stjosephstemplemore.ie/event/confirmation-5th-and-6th-class/
END:VEVENT
BEGIN:VEVENT
DTSTART;TZID=Europe/London:20220408T113000
DTEND;TZID=Europe/London:20220424T233000
DTSTAMP:20260425T171907
CREATED:20220201T214105Z
LAST-MODIFIED:20220201T214139Z
UID:5391-1649417400-1650843000@www.stjosephstemplemore.ie
SUMMARY:School closes for Easter Holidays
DESCRIPTION:
URL:https://www.stjosephstemplemore.ie/event/school-closes-for-easter-holidays/
END:VEVENT
BEGIN:VEVENT
DTSTART;VALUE=DATE:20220321
DTEND;VALUE=DATE:20220322
DTSTAMP:20260425T171907
CREATED:20220303T221029Z
LAST-MODIFIED:20220303T221029Z
UID:5471-1647820800-1647907199@www.stjosephstemplemore.ie
SUMMARY:National Volleyball Finals in UL
DESCRIPTION:After qualifying from regional finals\, our 6th class Volleyball team participate in the National Volleyball Finals for the first time.
URL:https://www.stjosephstemplemore.ie/event/national-volleyball-finals-in-ul/
END:VEVENT
BEGIN:VEVENT
DTSTART;VALUE=DATE:20220318
DTEND;VALUE=DATE:20220319
DTSTAMP:20260425T171907
CREATED:20220201T213956Z
LAST-MODIFIED:20220201T213956Z
UID:5389-1647561600-1647647999@www.stjosephstemplemore.ie
SUMMARY:Public Holiday
DESCRIPTION:
URL:https://www.stjosephstemplemore.ie/event/public-holiday/
END:VEVENT
BEGIN:VEVENT
DTSTART;VALUE=DATE:20220317
DTEND;VALUE=DATE:20220318
DTSTAMP:20260425T171907
CREATED:20220201T213935Z
LAST-MODIFIED:20220201T213935Z
UID:5387-1647475200-1647561599@www.stjosephstemplemore.ie
SUMMARY:St Patrick's Day
DESCRIPTION:
URL:https://www.stjosephstemplemore.ie/event/st-patricks-day-2/
END:VEVENT
BEGIN:VEVENT
DTSTART;TZID=Europe/London:20220309T080000
DTEND;TZID=Europe/London:20220309T170000
DTSTAMP:20260425T171907
CREATED:20220204T133712Z
LAST-MODIFIED:20220204T133712Z
UID:5417-1646812800-1646845200@www.stjosephstemplemore.ie
SUMMARY:First  Penance
DESCRIPTION:
URL:https://www.stjosephstemplemore.ie/event/first-penance-2/
END:VEVENT
BEGIN:VEVENT
DTSTART;VALUE=DATE:20220307
DTEND;VALUE=DATE:20220317
DTSTAMP:20260425T171907
CREATED:20220303T220638Z
LAST-MODIFIED:20220303T220638Z
UID:5469-1646611200-1647475199@www.stjosephstemplemore.ie
SUMMARY:Seachtain na Gaeilge 2022
DESCRIPTION:
URL:https://www.stjosephstemplemore.ie/event/seachtain-na-gaeilge-2022/
END:VEVENT
BEGIN:VEVENT
DTSTART;TZID=Europe/London:20220224T080000
DTEND;TZID=Europe/London:20220225T170000
DTSTAMP:20260425T171907
CREATED:20220113T114708Z
LAST-MODIFIED:20220113T114708Z
UID:5359-1645689600-1645808400@www.stjosephstemplemore.ie
SUMMARY:Mid-Term
DESCRIPTION:Closed for Mid-Term
URL:https://www.stjosephstemplemore.ie/event/mid-term-2/
END:VEVENT
BEGIN:VEVENT
DTSTART;TZID=Europe/London:20220208T080000
DTEND;TZID=Europe/London:20220208T170000
DTSTAMP:20260425T171907
CREATED:20220204T124516Z
LAST-MODIFIED:20220204T124556Z
UID:5411-1644307200-1644339600@www.stjosephstemplemore.ie
SUMMARY:Safer Internet Day
DESCRIPTION:
URL:https://www.stjosephstemplemore.ie/event/safer-internet-day-2/
END:VEVENT
BEGIN:VEVENT
DTSTART;TZID=Europe/London:20220127T080000
DTEND;TZID=Europe/London:20220127T170000
DTSTAMP:20260425T171907
CREATED:20220113T114445Z
LAST-MODIFIED:20220113T114547Z
UID:5356-1643270400-1643302800@www.stjosephstemplemore.ie
SUMMARY:Exceptional Closure Day
DESCRIPTION:School will be closed for all pupils to facilitate staff training by NCSE (National Council for Special Education)
URL:https://www.stjosephstemplemore.ie/event/exceptional-closure-day/
END:VEVENT
BEGIN:VEVENT
DTSTART;TZID=Europe/London:20220124T090000
DTEND;TZID=Europe/London:20220128T143000
DTSTAMP:20260425T171907
CREATED:20220113T114209Z
LAST-MODIFIED:20220113T114209Z
UID:5353-1643014800-1643380200@www.stjosephstemplemore.ie
SUMMARY:Catholic Schools Week
DESCRIPTION:Catholic Schools Week runs from Monday 24th to Friday 28th January
URL:https://www.stjosephstemplemore.ie/event/catholic-schools-week-3/
END:VEVENT
BEGIN:VEVENT
DTSTART;VALUE=DATE:20210625
DTEND;VALUE=DATE:20210626
DTSTAMP:20260425T171907
CREATED:20210413T185752Z
LAST-MODIFIED:20210413T185752Z
UID:3777-1624579200-1624665599@www.stjosephstemplemore.ie
SUMMARY:Summer Holidays
DESCRIPTION:
URL:https://www.stjosephstemplemore.ie/event/summer-holidays-4/
END:VEVENT
BEGIN:VEVENT
DTSTART;TZID=Europe/London:20210203T133000
DTEND;TZID=Europe/London:20210203T170000
DTSTAMP:20260425T171907
CREATED:20201005T154909Z
LAST-MODIFIED:20201005T154909Z
UID:2295-1612359000-1612371600@www.stjosephstemplemore.ie
SUMMARY:Junior Infant Parent Teacher Meeting
DESCRIPTION:
URL:https://www.stjosephstemplemore.ie/event/junior-infant-parent-teacher-meeting/
END:VEVENT
BEGIN:VEVENT
DTSTART;VALUE=DATE:20201223
DTEND;VALUE=DATE:20210106
DTSTAMP:20260425T171907
CREATED:20200629T200628Z
LAST-MODIFIED:20200629T200916Z
UID:2113-1608681600-1609891199@www.stjosephstemplemore.ie
SUMMARY:Christmas Holidays
DESCRIPTION:
URL:https://www.stjosephstemplemore.ie/event/christmas-holidays-4/
END:VEVENT
BEGIN:VEVENT
DTSTART;TZID=Europe/London:20201218T090000
DTEND;TZID=Europe/London:20201218T143000
DTSTAMP:20260425T171907
CREATED:20201005T155138Z
LAST-MODIFIED:20201022T141344Z
UID:2298-1608282000-1608301800@www.stjosephstemplemore.ie
SUMMARY:Fundraiser -Mega Marathon Day!
DESCRIPTION:
URL:https://www.stjosephstemplemore.ie/event/fundraiser-run-a-marathon-templemore/
END:VEVENT
BEGIN:VEVENT
DTSTART;TZID=Europe/London:20201125T133000
DTEND;TZID=Europe/London:20201125T170000
DTSTAMP:20260425T171907
CREATED:20201005T154736Z
LAST-MODIFIED:20201005T154736Z
UID:2293-1606311000-1606323600@www.stjosephstemplemore.ie
SUMMARY:Parent Teacher Meeting
DESCRIPTION:
URL:https://www.stjosephstemplemore.ie/event/parent-teacher-meeting/
END:VEVENT
BEGIN:VEVENT
DTSTART;TZID=Europe/London:20201109T080000
DTEND;TZID=Europe/London:20201113T170000
DTSTAMP:20260425T171907
CREATED:20201005T154655Z
LAST-MODIFIED:20201005T154655Z
UID:2291-1604908800-1605286800@www.stjosephstemplemore.ie
SUMMARY:Science Week
DESCRIPTION:
URL:https://www.stjosephstemplemore.ie/event/science-week/
END:VEVENT
BEGIN:VEVENT
DTSTART;VALUE=DATE:20201026
DTEND;VALUE=DATE:20201031
DTSTAMP:20260425T171907
CREATED:20200629T200447Z
LAST-MODIFIED:20200629T200447Z
UID:2111-1603670400-1604102399@www.stjosephstemplemore.ie
SUMMARY:Mid Term
DESCRIPTION:
URL:https://www.stjosephstemplemore.ie/event/mid-term/
END:VEVENT
BEGIN:VEVENT
DTSTART;VALUE=DATE:20201005
DTEND;VALUE=DATE:20201010
DTSTAMP:20260425T171907
CREATED:20201005T153854Z
LAST-MODIFIED:20201005T153854Z
UID:2289-1601856000-1602287999@www.stjosephstemplemore.ie
SUMMARY:Friendship Week
DESCRIPTION:
URL:https://www.stjosephstemplemore.ie/event/friendship-week-2/
END:VEVENT
BEGIN:VEVENT
DTSTART;VALUE=DATE:20200828
DTEND;VALUE=DATE:20200829
DTSTAMP:20260425T171907
CREATED:20200629T200402Z
LAST-MODIFIED:20200629T200402Z
UID:2109-1598572800-1598659199@www.stjosephstemplemore.ie
SUMMARY:School reopens
DESCRIPTION:
URL:https://www.stjosephstemplemore.ie/event/school-reopens/
END:VEVENT
BEGIN:VEVENT
DTSTART;TZID=Europe/London:20200626T080000
DTEND;TZID=Europe/London:20200626T170000
DTSTAMP:20260425T171907
CREATED:20190916T145947Z
LAST-MODIFIED:20190916T145947Z
UID:1184-1593158400-1593190800@www.stjosephstemplemore.ie
SUMMARY:Summer Holidays
DESCRIPTION:
URL:https://www.stjosephstemplemore.ie/event/summer-holidays-3/
END:VEVENT
BEGIN:VEVENT
DTSTART;VALUE=DATE:20200601
DTEND;VALUE=DATE:20200602
DTSTAMP:20260425T171907
CREATED:20190916T150500Z
LAST-MODIFIED:20190916T150500Z
UID:1187-1590969600-1591055999@www.stjosephstemplemore.ie
SUMMARY:Bank Holiday
DESCRIPTION:
URL:https://www.stjosephstemplemore.ie/event/bank-holiday-4/
END:VEVENT
BEGIN:VEVENT
DTSTART;TZID=Europe/London:20200509T110000
DTEND;TZID=Europe/London:20200509T130000
DTSTAMP:20260425T171907
CREATED:20190916T145205Z
LAST-MODIFIED:20190916T145205Z
UID:1162-1589022000-1589029200@www.stjosephstemplemore.ie
SUMMARY:Holy Communion
DESCRIPTION:
URL:https://www.stjosephstemplemore.ie/event/holy-communion-2/
END:VEVENT
BEGIN:VEVENT
DTSTART;VALUE=DATE:20200504
DTEND;VALUE=DATE:20200505
DTSTAMP:20260425T171907
CREATED:20190916T150536Z
LAST-MODIFIED:20190916T150536Z
UID:1189-1588550400-1588636799@www.stjosephstemplemore.ie
SUMMARY:May Bank Holiday
DESCRIPTION:
URL:https://www.stjosephstemplemore.ie/event/may-bank-holiday/
END:VEVENT
BEGIN:VEVENT
DTSTART;TZID=Europe/London:20200420T080000
DTEND;TZID=Europe/London:20200420T170000
DTSTAMP:20260425T171907
CREATED:20190916T145704Z
LAST-MODIFIED:20190916T145704Z
UID:1176-1587369600-1587402000@www.stjosephstemplemore.ie
SUMMARY:Back to School Term 3
DESCRIPTION:
URL:https://www.stjosephstemplemore.ie/event/back-to-school-term-3/
END:VEVENT
BEGIN:VEVENT
DTSTART;VALUE=DATE:20200420
DTEND;VALUE=DATE:20200425
DTSTAMP:20260425T171907
CREATED:20190916T145728Z
LAST-MODIFIED:20190916T145728Z
UID:1178-1587340800-1587772799@www.stjosephstemplemore.ie
SUMMARY:ARTS WEEK
DESCRIPTION:
URL:https://www.stjosephstemplemore.ie/event/arts-week-3/
END:VEVENT
BEGIN:VEVENT
DTSTART;TZID=Europe/London:20200403T080000
DTEND;TZID=Europe/London:20200403T170000
DTSTAMP:20260425T171907
CREATED:20190916T145634Z
LAST-MODIFIED:20190916T145634Z
UID:1174-1585900800-1585933200@www.stjosephstemplemore.ie
SUMMARY:Easter Holidays
DESCRIPTION:
URL:https://www.stjosephstemplemore.ie/event/easter-holidays/
END:VEVENT
BEGIN:VEVENT
DTSTART;VALUE=DATE:20200319
DTEND;VALUE=DATE:20200320
DTSTAMP:20260425T171907
CREATED:20190916T150610Z
LAST-MODIFIED:20190916T150610Z
UID:1191-1584576000-1584662399@www.stjosephstemplemore.ie
SUMMARY:Feast of St Joseph
DESCRIPTION:
URL:https://www.stjosephstemplemore.ie/event/feast-of-st-joseph/
END:VEVENT
END:VCALENDAR