BEGIN:VCALENDAR
VERSION:2.0
PRODID:-//St. Josephs Primary School - ECPv6.15.20//NONSGML v1.0//EN
CALSCALE:GREGORIAN
METHOD:PUBLISH
X-WR-CALNAME:St. Josephs Primary School
X-ORIGINAL-URL:https://www.stjosephstemplemore.ie
X-WR-CALDESC:Events for St. Josephs Primary School
REFRESH-INTERVAL;VALUE=DURATION:PT1H
X-Robots-Tag:noindex
X-PUBLISHED-TTL:PT1H
BEGIN:VTIMEZONE
TZID:Europe/London
BEGIN:DAYLIGHT
TZOFFSETFROM:+0000
TZOFFSETTO:+0100
TZNAME:BST
DTSTART:20210328T010000
END:DAYLIGHT
BEGIN:STANDARD
TZOFFSETFROM:+0100
TZOFFSETTO:+0000
TZNAME:GMT
DTSTART:20211031T010000
END:STANDARD
BEGIN:DAYLIGHT
TZOFFSETFROM:+0000
TZOFFSETTO:+0100
TZNAME:BST
DTSTART:20220327T010000
END:DAYLIGHT
BEGIN:STANDARD
TZOFFSETFROM:+0100
TZOFFSETTO:+0000
TZNAME:GMT
DTSTART:20221030T010000
END:STANDARD
BEGIN:DAYLIGHT
TZOFFSETFROM:+0000
TZOFFSETTO:+0100
TZNAME:BST
DTSTART:20230326T010000
END:DAYLIGHT
BEGIN:STANDARD
TZOFFSETFROM:+0100
TZOFFSETTO:+0000
TZNAME:GMT
DTSTART:20231029T010000
END:STANDARD
BEGIN:DAYLIGHT
TZOFFSETFROM:+0000
TZOFFSETTO:+0100
TZNAME:BST
DTSTART:20240331T010000
END:DAYLIGHT
BEGIN:STANDARD
TZOFFSETFROM:+0100
TZOFFSETTO:+0000
TZNAME:GMT
DTSTART:20241027T010000
END:STANDARD
END:VTIMEZONE
BEGIN:VEVENT
DTSTART;TZID=Europe/London:20230424T080000
DTEND;TZID=Europe/London:20230428T170000
DTSTAMP:20260425T115559
CREATED:20230125T211215Z
LAST-MODIFIED:20230125T211215Z
UID:6091-1682323200-1682701200@www.stjosephstemplemore.ie
SUMMARY:Arts Week
DESCRIPTION:
URL:https://www.stjosephstemplemore.ie/event/arts-week-4/
END:VEVENT
BEGIN:VEVENT
DTSTART;TZID=Europe/London:20230403T080000
DTEND;TZID=Europe/London:20230414T170000
DTSTAMP:20260425T115559
CREATED:20230125T205157Z
LAST-MODIFIED:20230125T205157Z
UID:6067-1680508800-1681491600@www.stjosephstemplemore.ie
SUMMARY:Easter Holidays
DESCRIPTION:
URL:https://www.stjosephstemplemore.ie/event/easter-holidays-2/
END:VEVENT
BEGIN:VEVENT
DTSTART;VALUE=DATE:20230330
DTEND;VALUE=DATE:20230331
DTSTAMP:20260425T115559
CREATED:20230306T205009Z
LAST-MODIFIED:20230306T205009Z
UID:6153-1680134400-1680220799@www.stjosephstemplemore.ie
SUMMARY:6th Class Bake sale
DESCRIPTION:6th Class will host their annual charity bake sale in the school hall.
URL:https://www.stjosephstemplemore.ie/event/6th-class-bake-sale-2/
END:VEVENT
BEGIN:VEVENT
DTSTART;VALUE=DATE:20230322
DTEND;VALUE=DATE:20230323
DTSTAMP:20260425T115559
CREATED:20230306T205152Z
LAST-MODIFIED:20230306T205152Z
UID:6155-1679443200-1679529599@www.stjosephstemplemore.ie
SUMMARY:School Closed (Teacher in-service training)
DESCRIPTION:
URL:https://www.stjosephstemplemore.ie/event/school-closed-teacher-in-service-training/
END:VEVENT
BEGIN:VEVENT
DTSTART;TZID=Europe/London:20230321T193000
DTEND;TZID=Europe/London:20230321T203000
DTSTAMP:20260425T115559
CREATED:20230125T205947Z
LAST-MODIFIED:20230125T205947Z
UID:6075-1679427000-1679430600@www.stjosephstemplemore.ie
SUMMARY:First Penance in Sacred Heart Church
DESCRIPTION:
URL:https://www.stjosephstemplemore.ie/event/first-penance-in-sacred-heart-church/
END:VEVENT
BEGIN:VEVENT
DTSTART;TZID=Europe/London:20230317T080000
DTEND;TZID=Europe/London:20230317T170000
DTSTAMP:20260425T115559
CREATED:20230125T211149Z
LAST-MODIFIED:20230125T211149Z
UID:6089-1679040000-1679072400@www.stjosephstemplemore.ie
SUMMARY:St Patrick's Day
DESCRIPTION:
URL:https://www.stjosephstemplemore.ie/event/st-patricks-day-3/
END:VEVENT
BEGIN:VEVENT
DTSTART;TZID=Europe/London:20230223T193000
DTEND;TZID=Europe/London:20230223T203000
DTSTAMP:20260425T115559
CREATED:20230125T205100Z
LAST-MODIFIED:20230125T205100Z
UID:6065-1677180600-1677184200@www.stjosephstemplemore.ie
SUMMARY:Parent Partnership Meeting together with St Colmcille's
DESCRIPTION:
URL:https://www.stjosephstemplemore.ie/event/parent-partnership-meeting-together-with-st-colmcilles/
END:VEVENT
BEGIN:VEVENT
DTSTART;TZID=Europe/London:20230221T100000
DTEND;TZID=Europe/London:20230221T140000
DTSTAMP:20260425T115559
CREATED:20230125T210329Z
LAST-MODIFIED:20230125T210329Z
UID:6081-1676973600-1676988000@www.stjosephstemplemore.ie
SUMMARY:Volleyball Regional Finals
DESCRIPTION:
URL:https://www.stjosephstemplemore.ie/event/volleyball-regional-finals/
END:VEVENT
BEGIN:VEVENT
DTSTART;TZID=Europe/London:20230216T080000
DTEND;TZID=Europe/London:20230217T170000
DTSTAMP:20260425T115559
CREATED:20230125T204828Z
LAST-MODIFIED:20230125T204828Z
UID:6063-1676534400-1676653200@www.stjosephstemplemore.ie
SUMMARY:Midterm
DESCRIPTION:
URL:https://www.stjosephstemplemore.ie/event/midterm-2/
END:VEVENT
BEGIN:VEVENT
DTSTART;TZID=Europe/London:20230210T123000
DTEND;TZID=Europe/London:20230210T143000
DTSTAMP:20260425T115559
CREATED:20230125T205726Z
LAST-MODIFIED:20230125T205726Z
UID:6073-1676032200-1676039400@www.stjosephstemplemore.ie
SUMMARY:Open Afternoon
DESCRIPTION:
URL:https://www.stjosephstemplemore.ie/event/open-afternoon-2/
END:VEVENT
BEGIN:VEVENT
DTSTART;TZID=Europe/London:20230209T100000
DTEND;TZID=Europe/London:20230209T110000
DTSTAMP:20260425T115559
CREATED:20230125T210211Z
LAST-MODIFIED:20230125T210211Z
UID:6079-1675936800-1675940400@www.stjosephstemplemore.ie
SUMMARY:Concern Debating Regional Final
DESCRIPTION:
URL:https://www.stjosephstemplemore.ie/event/concern-debating-regional-final/
END:VEVENT
BEGIN:VEVENT
DTSTART;TZID=Europe/London:20230207T080000
DTEND;TZID=Europe/London:20230207T170000
DTSTAMP:20260425T115559
CREATED:20230125T204757Z
LAST-MODIFIED:20230125T204757Z
UID:6061-1675756800-1675789200@www.stjosephstemplemore.ie
SUMMARY:Safer Internet Day
DESCRIPTION:
URL:https://www.stjosephstemplemore.ie/event/safer-internet-day-3/
END:VEVENT
BEGIN:VEVENT
DTSTART;TZID=Europe/London:20230206T080000
DTEND;TZID=Europe/London:20230206T170000
DTSTAMP:20260425T115559
CREATED:20230125T211005Z
LAST-MODIFIED:20230125T211005Z
UID:6083-1675670400-1675702800@www.stjosephstemplemore.ie
SUMMARY:St Bridget's Bank Holiday
DESCRIPTION:
URL:https://www.stjosephstemplemore.ie/event/st-bridgets-bank-holiday/
END:VEVENT
BEGIN:VEVENT
DTSTART;TZID=Europe/London:20230128T100000
DTEND;TZID=Europe/London:20230128T180000
DTSTAMP:20260425T115559
CREATED:20230125T210036Z
LAST-MODIFIED:20230125T210036Z
UID:6077-1674900000-1674928800@www.stjosephstemplemore.ie
SUMMARY:Peace Proms
DESCRIPTION:
URL:https://www.stjosephstemplemore.ie/event/peace-proms/
END:VEVENT
BEGIN:VEVENT
DTSTART;TZID=Europe/London:20230126T113000
DTEND;TZID=Europe/London:20230126T123000
DTSTAMP:20260425T115559
CREATED:20230125T204608Z
LAST-MODIFIED:20230125T204608Z
UID:6059-1674732600-1674736200@www.stjosephstemplemore.ie
SUMMARY:Grandparents Day
DESCRIPTION:
URL:https://www.stjosephstemplemore.ie/event/grandparents-day-3/
END:VEVENT
BEGIN:VEVENT
DTSTART;TZID=Europe/London:20230109T080000
DTEND;TZID=Europe/London:20230109T170000
DTSTAMP:20260425T115559
CREATED:20230628T160302Z
LAST-MODIFIED:20230628T160302Z
UID:6514-1673251200-1673283600@www.stjosephstemplemore.ie
SUMMARY:Back to School for Term 2
DESCRIPTION:
URL:https://www.stjosephstemplemore.ie/event/back-to-school-for-term-2/
END:VEVENT
BEGIN:VEVENT
DTSTART;TZID=Europe/London:20221220T100000
DTEND;TZID=Europe/London:20221220T113000
DTSTAMP:20260425T115559
CREATED:20221205T223343Z
LAST-MODIFIED:20221205T223343Z
UID:6051-1671530400-1671535800@www.stjosephstemplemore.ie
SUMMARY:6th Class Christmas Breakfast
DESCRIPTION:
URL:https://www.stjosephstemplemore.ie/event/6th-class-christmas-breakfast/
END:VEVENT
BEGIN:VEVENT
DTSTART;TZID=Europe/London:20221219T123000
DTEND;TZID=Europe/London:20221219T140000
DTSTAMP:20260425T115559
CREATED:20221205T222926Z
LAST-MODIFIED:20221205T222926Z
UID:6047-1671453000-1671458400@www.stjosephstemplemore.ie
SUMMARY:Carol Singing at Town Hall (1st to 6th Class)
DESCRIPTION:
URL:https://www.stjosephstemplemore.ie/event/carol-singing-at-town-hall-1st-to-6th-class/
END:VEVENT
BEGIN:VEVENT
DTSTART;TZID=Europe/London:20221218T190000
DTEND;TZID=Europe/London:20221218T190000
DTSTAMP:20260425T115559
CREATED:20221205T223228Z
LAST-MODIFIED:20221205T223228Z
UID:6049-1671390000-1671390000@www.stjosephstemplemore.ie
SUMMARY:Parish Nativity - 6th Class (4th & 5th Choir)
DESCRIPTION:
URL:https://www.stjosephstemplemore.ie/event/parish-nativity-6th-class-4th-5th-choir/
END:VEVENT
BEGIN:VEVENT
DTSTART;TZID=Europe/London:20221214T190000
DTEND;TZID=Europe/London:20221214T190000
DTSTAMP:20260425T115559
CREATED:20221205T223621Z
LAST-MODIFIED:20221205T223621Z
UID:6053-1671044400-1671044400@www.stjosephstemplemore.ie
SUMMARY:Christmas Concert and Nativity - Junior and Senior Infants
DESCRIPTION:
URL:https://www.stjosephstemplemore.ie/event/christmas-concert-and-nativity-junior-and-senior-infants/
END:VEVENT
BEGIN:VEVENT
DTSTART;TZID=Europe/London:20221124T134000
DTEND;TZID=Europe/London:20221124T170000
DTSTAMP:20260425T115559
CREATED:20221116T230038Z
LAST-MODIFIED:20221116T230038Z
UID:6043-1669297200-1669309200@www.stjosephstemplemore.ie
SUMMARY:Parent Teacher Meetings
DESCRIPTION:Parent Teacher meetings will take place on Thursday 24th November. \nSchool finishes at 1.40pm to facilitate same.
URL:https://www.stjosephstemplemore.ie/event/parent-teacher-meetings/
END:VEVENT
BEGIN:VEVENT
DTSTART;TZID=Europe/London:20221124T080000
DTEND;TZID=Europe/London:20221124T170000
DTSTAMP:20260425T115559
CREATED:20220916T134120Z
LAST-MODIFIED:20220916T134120Z
UID:6024-1669276800-1669309200@www.stjosephstemplemore.ie
SUMMARY:Thursdays Together
DESCRIPTION:
URL:https://www.stjosephstemplemore.ie/event/thursdays-together-4/
END:VEVENT
BEGIN:VEVENT
DTSTART;VALUE=DATE:20221031
DTEND;VALUE=DATE:20221105
DTSTAMP:20260425T115559
CREATED:20220916T134222Z
LAST-MODIFIED:20220916T134222Z
UID:6026-1667174400-1667606399@www.stjosephstemplemore.ie
SUMMARY:Mid Term
DESCRIPTION:
URL:https://www.stjosephstemplemore.ie/event/mid-term-3/
END:VEVENT
BEGIN:VEVENT
DTSTART;TZID=Europe/London:20221027T080000
DTEND;TZID=Europe/London:20221027T170000
DTSTAMP:20260425T115559
CREATED:20220916T134100Z
LAST-MODIFIED:20220916T134100Z
UID:6022-1666857600-1666890000@www.stjosephstemplemore.ie
SUMMARY:Thursdays Together
DESCRIPTION:
URL:https://www.stjosephstemplemore.ie/event/thursdays-together-3/
END:VEVENT
BEGIN:VEVENT
DTSTART;TZID=Europe/London:20220929T080000
DTEND;TZID=Europe/London:20220929T170000
DTSTAMP:20260425T115559
CREATED:20220916T134036Z
LAST-MODIFIED:20220916T134036Z
UID:6020-1664438400-1664470800@www.stjosephstemplemore.ie
SUMMARY:Thursdays Together
DESCRIPTION:
URL:https://www.stjosephstemplemore.ie/event/thursdays-together-2/
END:VEVENT
BEGIN:VEVENT
DTSTART;TZID=Europe/London:20220928T103000
DTEND;TZID=Europe/London:20220928T143000
DTSTAMP:20260425T115559
CREATED:20220916T133857Z
LAST-MODIFIED:20220916T133857Z
UID:6018-1664361000-1664375400@www.stjosephstemplemore.ie
SUMMARY:Tipperary Cross Country Championships
DESCRIPTION:
URL:https://www.stjosephstemplemore.ie/event/tipperary-cross-country-championships/
END:VEVENT
BEGIN:VEVENT
DTSTART;TZID=Europe/London:20220927T193000
DTEND;TZID=Europe/London:20220927T203000
DTSTAMP:20260425T115559
CREATED:20220907T135914Z
LAST-MODIFIED:20220916T133725Z
UID:6010-1664307000-1664310600@www.stjosephstemplemore.ie
SUMMARY:Junior Infant Familiarisation Night @ 7:30pm
DESCRIPTION:
URL:https://www.stjosephstemplemore.ie/event/junior-infant-familiarisation-night-730pm/
END:VEVENT
BEGIN:VEVENT
DTSTART;TZID=Europe/London:20220923T093000
DTEND;TZID=Europe/London:20220923T100000
DTSTAMP:20260425T115559
CREATED:20220916T133811Z
LAST-MODIFIED:20220916T133811Z
UID:6016-1663925400-1663927200@www.stjosephstemplemore.ie
SUMMARY:Beginning of Year Mass Sacred Heart Church at 9.30a.m.
DESCRIPTION:
URL:https://www.stjosephstemplemore.ie/event/beginning-of-year-mass-sacred-heart-church-at-9-30a-m/
END:VEVENT
BEGIN:VEVENT
DTSTART;TZID=Europe/London:20220914T085500
DTEND;TZID=Europe/London:20220914T123000
DTSTAMP:20260425T115559
CREATED:20220907T135808Z
LAST-MODIFIED:20220907T135808Z
UID:6008-1663145700-1663158600@www.stjosephstemplemore.ie
SUMMARY:School closes at 12.30pm to facilitate Staff Meeting
DESCRIPTION:
URL:https://www.stjosephstemplemore.ie/event/school-closes-at-12-30pm-to-facilitate-staff-meeting/
END:VEVENT
BEGIN:VEVENT
DTSTART;TZID=Europe/London:20220912T080000
DTEND;TZID=Europe/London:20220912T170000
DTSTAMP:20260425T115559
CREATED:20220907T140059Z
LAST-MODIFIED:20220907T140201Z
UID:6012-1662969600-1663002000@www.stjosephstemplemore.ie
SUMMARY:Junior Infants & 1st Class commence normal school day
DESCRIPTION:Junior Infants will now finish at 1:35pm \n1st Class will now finish at 2:35pm
URL:https://www.stjosephstemplemore.ie/event/junior-infants-1st-class-commence-normal-school-day/
END:VEVENT
END:VCALENDAR