BEGIN:VCALENDAR
VERSION:2.0
PRODID:-//St. Josephs Primary School - ECPv6.15.20//NONSGML v1.0//EN
CALSCALE:GREGORIAN
METHOD:PUBLISH
X-ORIGINAL-URL:https://www.stjosephstemplemore.ie
X-WR-CALDESC:Events for St. Josephs Primary School
REFRESH-INTERVAL;VALUE=DURATION:PT1H
X-Robots-Tag:noindex
X-PUBLISHED-TTL:PT1H
BEGIN:VTIMEZONE
TZID:Europe/London
BEGIN:DAYLIGHT
TZOFFSETFROM:+0000
TZOFFSETTO:+0100
TZNAME:BST
DTSTART:20250330T010000
END:DAYLIGHT
BEGIN:STANDARD
TZOFFSETFROM:+0100
TZOFFSETTO:+0000
TZNAME:GMT
DTSTART:20251026T010000
END:STANDARD
BEGIN:DAYLIGHT
TZOFFSETFROM:+0000
TZOFFSETTO:+0100
TZNAME:BST
DTSTART:20260329T010000
END:DAYLIGHT
BEGIN:STANDARD
TZOFFSETFROM:+0100
TZOFFSETTO:+0000
TZNAME:GMT
DTSTART:20261025T010000
END:STANDARD
BEGIN:DAYLIGHT
TZOFFSETFROM:+0000
TZOFFSETTO:+0100
TZNAME:BST
DTSTART:20270328T010000
END:DAYLIGHT
BEGIN:STANDARD
TZOFFSETFROM:+0100
TZOFFSETTO:+0000
TZNAME:GMT
DTSTART:20271031T010000
END:STANDARD
END:VTIMEZONE
BEGIN:VEVENT
DTSTART;TZID=Europe/London:20260219T080000
DTEND;TZID=Europe/London:20260220T170000
DTSTAMP:20260425T154254
CREATED:20251202T145911Z
LAST-MODIFIED:20251202T145911Z
UID:6971-1771488000-1771606800@www.stjosephstemplemore.ie
SUMMARY:February Midterm
DESCRIPTION:
URL:https://www.stjosephstemplemore.ie/event/february-midterm-3/
END:VEVENT
BEGIN:VEVENT
DTSTART;VALUE=DATE:20260317
DTEND;VALUE=DATE:20260318
DTSTAMP:20260425T154254
CREATED:20260211T185600Z
LAST-MODIFIED:20260211T185600Z
UID:6997-1773705600-1773791999@www.stjosephstemplemore.ie
SUMMARY:Lá le Padraig
DESCRIPTION:
URL:https://www.stjosephstemplemore.ie/event/la-le-padraig/
END:VEVENT
BEGIN:VEVENT
DTSTART;TZID=Europe/London:20260330T080000
DTEND;TZID=Europe/London:20260410T170000
DTSTAMP:20260425T154254
CREATED:20260211T185642Z
LAST-MODIFIED:20260211T185642Z
UID:7001-1774857600-1775840400@www.stjosephstemplemore.ie
SUMMARY:Easter Holidays
DESCRIPTION:
URL:https://www.stjosephstemplemore.ie/event/easter-holidays-5/
END:VEVENT
BEGIN:VEVENT
DTSTART;TZID=Europe/London:20260417T110000
DTEND;TZID=Europe/London:20260417T130000
DTSTAMP:20260425T154254
CREATED:20260211T185817Z
LAST-MODIFIED:20260211T185817Z
UID:7005-1776423600-1776430800@www.stjosephstemplemore.ie
SUMMARY:Confirmation
DESCRIPTION:Note: This is a regular school day for all classes except 5th & 6th Classes. School will close at the earlier time of 1pm for all pupils.
URL:https://www.stjosephstemplemore.ie/event/confirmation/
END:VEVENT
BEGIN:VEVENT
DTSTART;TZID=Europe/London:20260425T110000
DTEND;TZID=Europe/London:20260425T123000
DTSTAMP:20260425T154254
CREATED:20260211T185954Z
LAST-MODIFIED:20260211T185954Z
UID:7009-1777114800-1777120200@www.stjosephstemplemore.ie
SUMMARY:Holy Communion
DESCRIPTION:
URL:https://www.stjosephstemplemore.ie/event/holy-communion-3/
END:VEVENT
BEGIN:VEVENT
DTSTART;TZID=Europe/London:20260619T143000
DTEND;TZID=Europe/London:20260619T170000
DTSTAMP:20260425T154254
CREATED:20260211T190030Z
LAST-MODIFIED:20260211T190030Z
UID:7013-1781879400-1781888400@www.stjosephstemplemore.ie
SUMMARY:Summer Holidays
DESCRIPTION:
URL:https://www.stjosephstemplemore.ie/event/summer-holidays-8/
END:VEVENT
END:VCALENDAR