BEGIN:VCALENDAR
VERSION:2.0
PRODID:-//St. Josephs Primary School - ECPv6.15.20//NONSGML v1.0//EN
CALSCALE:GREGORIAN
METHOD:PUBLISH
X-WR-CALNAME:St. Josephs Primary School
X-ORIGINAL-URL:https://www.stjosephstemplemore.ie
X-WR-CALDESC:Events for St. Josephs Primary School
REFRESH-INTERVAL;VALUE=DURATION:PT1H
X-Robots-Tag:noindex
X-PUBLISHED-TTL:PT1H
BEGIN:VTIMEZONE
TZID:Europe/London
BEGIN:DAYLIGHT
TZOFFSETFROM:+0000
TZOFFSETTO:+0100
TZNAME:BST
DTSTART:20220327T010000
END:DAYLIGHT
BEGIN:STANDARD
TZOFFSETFROM:+0100
TZOFFSETTO:+0000
TZNAME:GMT
DTSTART:20221030T010000
END:STANDARD
BEGIN:DAYLIGHT
TZOFFSETFROM:+0000
TZOFFSETTO:+0100
TZNAME:BST
DTSTART:20230326T010000
END:DAYLIGHT
BEGIN:STANDARD
TZOFFSETFROM:+0100
TZOFFSETTO:+0000
TZNAME:GMT
DTSTART:20231029T010000
END:STANDARD
BEGIN:DAYLIGHT
TZOFFSETFROM:+0000
TZOFFSETTO:+0100
TZNAME:BST
DTSTART:20240331T010000
END:DAYLIGHT
BEGIN:STANDARD
TZOFFSETFROM:+0100
TZOFFSETTO:+0000
TZNAME:GMT
DTSTART:20241027T010000
END:STANDARD
BEGIN:DAYLIGHT
TZOFFSETFROM:+0000
TZOFFSETTO:+0100
TZNAME:BST
DTSTART:20250330T010000
END:DAYLIGHT
BEGIN:STANDARD
TZOFFSETFROM:+0100
TZOFFSETTO:+0000
TZNAME:GMT
DTSTART:20251026T010000
END:STANDARD
END:VTIMEZONE
BEGIN:VEVENT
DTSTART;TZID=Europe/London:20241205T120000
DTEND;TZID=Europe/London:20241205T140000
DTSTAMP:20260425T115524
CREATED:20241122T140320Z
LAST-MODIFIED:20241122T140320Z
UID:6704-1733400000-1733407200@www.stjosephstemplemore.ie
SUMMARY:Annual Christmas Visit to Garda College for 5th & 6th Classes
DESCRIPTION:
URL:https://www.stjosephstemplemore.ie/event/annual-christmas-visit-to-garda-college-for-5th-6th-classes/
END:VEVENT
BEGIN:VEVENT
DTSTART;TZID=Europe/London:20241128T100000
DTEND;TZID=Europe/London:20241128T110000
DTSTAMP:20260425T115524
CREATED:20241122T140145Z
LAST-MODIFIED:20241122T140145Z
UID:6702-1732788000-1732791600@www.stjosephstemplemore.ie
SUMMARY:U11A1B1 County Final in  Littleton
DESCRIPTION:
URL:https://www.stjosephstemplemore.ie/event/u11a1b1-county-final-in-littleton/
END:VEVENT
BEGIN:VEVENT
DTSTART;TZID=Europe/London:20240624T080000
DTEND;TZID=Europe/London:20240823T170000
DTSTAMP:20260425T115524
CREATED:20230628T155925Z
LAST-MODIFIED:20230628T155925Z
UID:6512-1719216000-1724432400@www.stjosephstemplemore.ie
SUMMARY:Summer Holidays
DESCRIPTION:
URL:https://www.stjosephstemplemore.ie/event/summer-holidays-6/
END:VEVENT
BEGIN:VEVENT
DTSTART;TZID=Europe/London:20240621T080000
DTEND;TZID=Europe/London:20240621T143000
DTSTAMP:20260425T115524
CREATED:20230628T160950Z
LAST-MODIFIED:20230628T160950Z
UID:6520-1718956800-1718980200@www.stjosephstemplemore.ie
SUMMARY:School closes for Summer Holidays
DESCRIPTION:
URL:https://www.stjosephstemplemore.ie/event/school-closes-for-summer-holidays-2/
END:VEVENT
BEGIN:VEVENT
DTSTART;TZID=Europe/London:20240607T080000
DTEND;TZID=Europe/London:20240607T170000
DTSTAMP:20260425T115524
CREATED:20240423T115100Z
LAST-MODIFIED:20240423T115100Z
UID:6615-1717747200-1717779600@www.stjosephstemplemore.ie
SUMMARY:School holiday
DESCRIPTION:
URL:https://www.stjosephstemplemore.ie/event/school-holiday-3/
END:VEVENT
BEGIN:VEVENT
DTSTART;TZID=Europe/London:20240603T080000
DTEND;TZID=Europe/London:20240603T170000
DTSTAMP:20260425T115524
CREATED:20230628T155843Z
LAST-MODIFIED:20230628T155843Z
UID:6510-1717401600-1717434000@www.stjosephstemplemore.ie
SUMMARY:June Bank Holiday
DESCRIPTION:
URL:https://www.stjosephstemplemore.ie/event/june-bank-holiday-2/
END:VEVENT
BEGIN:VEVENT
DTSTART;TZID=Europe/London:20240506T080000
DTEND;TZID=Europe/London:20240506T170000
DTSTAMP:20260425T115524
CREATED:20230628T155818Z
LAST-MODIFIED:20230628T155818Z
UID:6508-1714982400-1715014800@www.stjosephstemplemore.ie
SUMMARY:May Bank Holiday
DESCRIPTION:
URL:https://www.stjosephstemplemore.ie/event/may-bank-holiday-3/
END:VEVENT
BEGIN:VEVENT
DTSTART;TZID=Europe/London:20240408T080000
DTEND;TZID=Europe/London:20240408T170000
DTSTAMP:20260425T115524
CREATED:20230628T160517Z
LAST-MODIFIED:20230628T160517Z
UID:6516-1712563200-1712595600@www.stjosephstemplemore.ie
SUMMARY:Back to School for Term 3
DESCRIPTION:
URL:https://www.stjosephstemplemore.ie/event/back-to-school-for-term-3/
END:VEVENT
BEGIN:VEVENT
DTSTART;TZID=Europe/London:20240325T080000
DTEND;TZID=Europe/London:20240405T170000
DTSTAMP:20260425T115524
CREATED:20230628T155749Z
LAST-MODIFIED:20230628T155749Z
UID:6506-1711353600-1712336400@www.stjosephstemplemore.ie
SUMMARY:Easter Holidays
DESCRIPTION:
URL:https://www.stjosephstemplemore.ie/event/easter-holidays-3/
END:VEVENT
BEGIN:VEVENT
DTSTART;TZID=Europe/London:20240318T080000
DTEND;TZID=Europe/London:20240318T170000
DTSTAMP:20260425T115524
CREATED:20230628T155708Z
LAST-MODIFIED:20230628T155708Z
UID:6504-1710748800-1710781200@www.stjosephstemplemore.ie
SUMMARY:St Patrick's Day Public Holiday
DESCRIPTION:
URL:https://www.stjosephstemplemore.ie/event/st-patricks-day-public-holiday/
END:VEVENT
BEGIN:VEVENT
DTSTART;TZID=Europe/London:20240215T080000
DTEND;TZID=Europe/London:20240216T170000
DTSTAMP:20260425T115524
CREATED:20230628T155638Z
LAST-MODIFIED:20230628T155638Z
UID:6502-1707984000-1708102800@www.stjosephstemplemore.ie
SUMMARY:February Midterm
DESCRIPTION:
URL:https://www.stjosephstemplemore.ie/event/february-midterm-2/
END:VEVENT
BEGIN:VEVENT
DTSTART;TZID=Europe/London:20240205T080000
DTEND;TZID=Europe/London:20240205T170000
DTSTAMP:20260425T115524
CREATED:20230628T155609Z
LAST-MODIFIED:20230628T155609Z
UID:6500-1707120000-1707152400@www.stjosephstemplemore.ie
SUMMARY:St Bridget's Public Holiday
DESCRIPTION:
URL:https://www.stjosephstemplemore.ie/event/st-bridgets-public-holiday/
END:VEVENT
BEGIN:VEVENT
DTSTART;TZID=Europe/London:20240108T080000
DTEND;TZID=Europe/London:20240108T170000
DTSTAMP:20260425T115524
CREATED:20230628T160659Z
LAST-MODIFIED:20230628T160659Z
UID:6518-1704700800-1704733200@www.stjosephstemplemore.ie
SUMMARY:Back to School for Term 2
DESCRIPTION:
URL:https://www.stjosephstemplemore.ie/event/back-to-school-for-term-2-2/
END:VEVENT
BEGIN:VEVENT
DTSTART;TZID=Europe/London:20231225T080000
DTEND;TZID=Europe/London:20240105T170000
DTSTAMP:20260425T115524
CREATED:20230628T155534Z
LAST-MODIFIED:20230628T155534Z
UID:6498-1703491200-1704474000@www.stjosephstemplemore.ie
SUMMARY:Christmas Holidays
DESCRIPTION:
URL:https://www.stjosephstemplemore.ie/event/christmas-holidays-5/
END:VEVENT
BEGIN:VEVENT
DTSTART;VALUE=DATE:20231030
DTEND;VALUE=DATE:20231104
DTSTAMP:20260425T115524
CREATED:20230628T155451Z
LAST-MODIFIED:20230628T155451Z
UID:6496-1698624000-1699055999@www.stjosephstemplemore.ie
SUMMARY:Midterm
DESCRIPTION:
URL:https://www.stjosephstemplemore.ie/event/midterm-3/
END:VEVENT
BEGIN:VEVENT
DTSTART;VALUE=DATE:20230831
DTEND;VALUE=DATE:20230901
DTSTAMP:20260425T115524
CREATED:20230628T155400Z
LAST-MODIFIED:20230628T155400Z
UID:6494-1693440000-1693526399@www.stjosephstemplemore.ie
SUMMARY:Back to School for Seoda & Junior Infants
DESCRIPTION:
URL:https://www.stjosephstemplemore.ie/event/back-to-school-for-seoda-junior-infants/
END:VEVENT
BEGIN:VEVENT
DTSTART;VALUE=DATE:20230830
DTEND;VALUE=DATE:20230831
DTSTAMP:20260425T115524
CREATED:20230628T155318Z
LAST-MODIFIED:20230628T155318Z
UID:6492-1693353600-1693439999@www.stjosephstemplemore.ie
SUMMARY:Back to School for Senior Infants -6th Class
DESCRIPTION:
URL:https://www.stjosephstemplemore.ie/event/back-to-school-for-senior-infants-6th-class/
END:VEVENT
BEGIN:VEVENT
DTSTART;TZID=Europe/London:20230623T083000
DTEND;TZID=Europe/London:20230623T120000
DTSTAMP:20260425T115524
CREATED:20230125T205510Z
LAST-MODIFIED:20230125T205510Z
UID:6071-1687509000-1687521600@www.stjosephstemplemore.ie
SUMMARY:Summer Holidays
DESCRIPTION:
URL:https://www.stjosephstemplemore.ie/event/summer-holidays-5/
END:VEVENT
BEGIN:VEVENT
DTSTART;TZID=Europe/London:20230605T080000
DTEND;TZID=Europe/London:20230605T170000
DTSTAMP:20260425T115524
CREATED:20230125T211126Z
LAST-MODIFIED:20230125T211126Z
UID:6087-1685952000-1685984400@www.stjosephstemplemore.ie
SUMMARY:June Bank Holiday
DESCRIPTION:
URL:https://www.stjosephstemplemore.ie/event/june-bank-holiday/
END:VEVENT
BEGIN:VEVENT
DTSTART;TZID=Europe/London:20230602T080000
DTEND;TZID=Europe/London:20230602T170000
DTSTAMP:20260425T115524
CREATED:20230125T205413Z
LAST-MODIFIED:20230125T205413Z
UID:6069-1685692800-1685725200@www.stjosephstemplemore.ie
SUMMARY:School Holiday
DESCRIPTION:
URL:https://www.stjosephstemplemore.ie/event/school-holiday-2/
END:VEVENT
BEGIN:VEVENT
DTSTART;TZID=Europe/London:20230519T110000
DTEND;TZID=Europe/London:20230519T120000
DTSTAMP:20260425T115524
CREATED:20230510T094239Z
LAST-MODIFIED:20230510T113148Z
UID:6266-1684494000-1684497600@www.stjosephstemplemore.ie
SUMMARY:U13 Roinn A Camogie County Semi-final v Powerstown NS
DESCRIPTION:Throw in at 11am in Boherlahan.
URL:https://www.stjosephstemplemore.ie/event/u13-roinn-a-camogie-county-semi-final-v-powerstown-ns/
END:VEVENT
BEGIN:VEVENT
DTSTART;TZID=Europe/London:20230501T080000
DTEND;TZID=Europe/London:20230501T170000
DTSTAMP:20260425T115524
CREATED:20230125T211059Z
LAST-MODIFIED:20230125T211059Z
UID:6085-1682928000-1682960400@www.stjosephstemplemore.ie
SUMMARY:May Bank Holiday
DESCRIPTION:
URL:https://www.stjosephstemplemore.ie/event/may-bank-holiday-2/
END:VEVENT
BEGIN:VEVENT
DTSTART;TZID=Europe/London:20230424T080000
DTEND;TZID=Europe/London:20230428T170000
DTSTAMP:20260425T115524
CREATED:20230125T211215Z
LAST-MODIFIED:20230125T211215Z
UID:6091-1682323200-1682701200@www.stjosephstemplemore.ie
SUMMARY:Arts Week
DESCRIPTION:
URL:https://www.stjosephstemplemore.ie/event/arts-week-4/
END:VEVENT
BEGIN:VEVENT
DTSTART;TZID=Europe/London:20230403T080000
DTEND;TZID=Europe/London:20230414T170000
DTSTAMP:20260425T115524
CREATED:20230125T205157Z
LAST-MODIFIED:20230125T205157Z
UID:6067-1680508800-1681491600@www.stjosephstemplemore.ie
SUMMARY:Easter Holidays
DESCRIPTION:
URL:https://www.stjosephstemplemore.ie/event/easter-holidays-2/
END:VEVENT
BEGIN:VEVENT
DTSTART;VALUE=DATE:20230330
DTEND;VALUE=DATE:20230331
DTSTAMP:20260425T115524
CREATED:20230306T205009Z
LAST-MODIFIED:20230306T205009Z
UID:6153-1680134400-1680220799@www.stjosephstemplemore.ie
SUMMARY:6th Class Bake sale
DESCRIPTION:6th Class will host their annual charity bake sale in the school hall.
URL:https://www.stjosephstemplemore.ie/event/6th-class-bake-sale-2/
END:VEVENT
BEGIN:VEVENT
DTSTART;VALUE=DATE:20230322
DTEND;VALUE=DATE:20230323
DTSTAMP:20260425T115524
CREATED:20230306T205152Z
LAST-MODIFIED:20230306T205152Z
UID:6155-1679443200-1679529599@www.stjosephstemplemore.ie
SUMMARY:School Closed (Teacher in-service training)
DESCRIPTION:
URL:https://www.stjosephstemplemore.ie/event/school-closed-teacher-in-service-training/
END:VEVENT
BEGIN:VEVENT
DTSTART;TZID=Europe/London:20230321T193000
DTEND;TZID=Europe/London:20230321T203000
DTSTAMP:20260425T115524
CREATED:20230125T205947Z
LAST-MODIFIED:20230125T205947Z
UID:6075-1679427000-1679430600@www.stjosephstemplemore.ie
SUMMARY:First Penance in Sacred Heart Church
DESCRIPTION:
URL:https://www.stjosephstemplemore.ie/event/first-penance-in-sacred-heart-church/
END:VEVENT
BEGIN:VEVENT
DTSTART;TZID=Europe/London:20230317T080000
DTEND;TZID=Europe/London:20230317T170000
DTSTAMP:20260425T115524
CREATED:20230125T211149Z
LAST-MODIFIED:20230125T211149Z
UID:6089-1679040000-1679072400@www.stjosephstemplemore.ie
SUMMARY:St Patrick's Day
DESCRIPTION:
URL:https://www.stjosephstemplemore.ie/event/st-patricks-day-3/
END:VEVENT
BEGIN:VEVENT
DTSTART;TZID=Europe/London:20230223T193000
DTEND;TZID=Europe/London:20230223T203000
DTSTAMP:20260425T115524
CREATED:20230125T205100Z
LAST-MODIFIED:20230125T205100Z
UID:6065-1677180600-1677184200@www.stjosephstemplemore.ie
SUMMARY:Parent Partnership Meeting together with St Colmcille's
DESCRIPTION:
URL:https://www.stjosephstemplemore.ie/event/parent-partnership-meeting-together-with-st-colmcilles/
END:VEVENT
BEGIN:VEVENT
DTSTART;TZID=Europe/London:20230221T100000
DTEND;TZID=Europe/London:20230221T140000
DTSTAMP:20260425T115524
CREATED:20230125T210329Z
LAST-MODIFIED:20230125T210329Z
UID:6081-1676973600-1676988000@www.stjosephstemplemore.ie
SUMMARY:Volleyball Regional Finals
DESCRIPTION:
URL:https://www.stjosephstemplemore.ie/event/volleyball-regional-finals/
END:VEVENT
END:VCALENDAR