BEGIN:VCALENDAR
VERSION:2.0
PRODID:-//St. Josephs Primary School - ECPv6.15.20//NONSGML v1.0//EN
CALSCALE:GREGORIAN
METHOD:PUBLISH
X-WR-CALNAME:St. Josephs Primary School
X-ORIGINAL-URL:https://www.stjosephstemplemore.ie
X-WR-CALDESC:Events for St. Josephs Primary School
REFRESH-INTERVAL;VALUE=DURATION:PT1H
X-Robots-Tag:noindex
X-PUBLISHED-TTL:PT1H
BEGIN:VTIMEZONE
TZID:Europe/London
BEGIN:DAYLIGHT
TZOFFSETFROM:+0000
TZOFFSETTO:+0100
TZNAME:BST
DTSTART:20160327T010000
END:DAYLIGHT
BEGIN:STANDARD
TZOFFSETFROM:+0100
TZOFFSETTO:+0000
TZNAME:GMT
DTSTART:20161030T010000
END:STANDARD
BEGIN:DAYLIGHT
TZOFFSETFROM:+0000
TZOFFSETTO:+0100
TZNAME:BST
DTSTART:20170326T010000
END:DAYLIGHT
BEGIN:STANDARD
TZOFFSETFROM:+0100
TZOFFSETTO:+0000
TZNAME:GMT
DTSTART:20171029T010000
END:STANDARD
BEGIN:DAYLIGHT
TZOFFSETFROM:+0000
TZOFFSETTO:+0100
TZNAME:BST
DTSTART:20180325T010000
END:DAYLIGHT
BEGIN:STANDARD
TZOFFSETFROM:+0100
TZOFFSETTO:+0000
TZNAME:GMT
DTSTART:20181028T010000
END:STANDARD
BEGIN:DAYLIGHT
TZOFFSETFROM:+0000
TZOFFSETTO:+0100
TZNAME:BST
DTSTART:20190331T010000
END:DAYLIGHT
BEGIN:STANDARD
TZOFFSETFROM:+0100
TZOFFSETTO:+0000
TZNAME:GMT
DTSTART:20191027T010000
END:STANDARD
END:VTIMEZONE
BEGIN:VEVENT
DTSTART;TZID=Europe/London:20181025T080000
DTEND;TZID=Europe/London:20181025T170000
DTSTAMP:20260425T235522
CREATED:20181010T150632Z
LAST-MODIFIED:20181010T150632Z
UID:708-1540454400-1540486800@www.stjosephstemplemore.ie
SUMMARY:Parent Association Disco!
DESCRIPTION:
URL:https://www.stjosephstemplemore.ie/event/parent-association-disco/
END:VEVENT
BEGIN:VEVENT
DTSTART;TZID=Europe/London:20181017T080000
DTEND;TZID=Europe/London:20181017T170000
DTSTAMP:20260425T235522
CREATED:20181010T150219Z
LAST-MODIFIED:20181010T150219Z
UID:701-1539763200-1539795600@www.stjosephstemplemore.ie
SUMMARY:1950s Showcase Day
DESCRIPTION:
URL:https://www.stjosephstemplemore.ie/event/1950s-showcase-day/
LOCATION:School Hall
END:VEVENT
BEGIN:VEVENT
DTSTART;TZID=Europe/London:20181015T080000
DTEND;TZID=Europe/London:20181015T170000
DTSTAMP:20260425T235522
CREATED:20181010T151120Z
LAST-MODIFIED:20181010T151120Z
UID:716-1539590400-1539622800@www.stjosephstemplemore.ie
SUMMARY:4th-6th Cormackstown Heritage Centre
DESCRIPTION:
URL:https://www.stjosephstemplemore.ie/event/4th-6th-cormackstown-heritage-centre/
END:VEVENT
BEGIN:VEVENT
DTSTART;TZID=Europe/London:20181012T080000
DTEND;TZID=Europe/London:20181012T170000
DTSTAMP:20260425T235522
CREATED:20181010T150450Z
LAST-MODIFIED:20181010T150450Z
UID:704-1539331200-1539363600@www.stjosephstemplemore.ie
SUMMARY:Visit of author Lucinda Jacob
DESCRIPTION:
URL:https://www.stjosephstemplemore.ie/event/visit-of-author-lucinda-jacob/
END:VEVENT
BEGIN:VEVENT
DTSTART;TZID=Europe/London:20181011T080000
DTEND;TZID=Europe/London:20181011T170000
DTSTAMP:20260425T235522
CREATED:20181010T150547Z
LAST-MODIFIED:20181010T150547Z
UID:706-1539244800-1539277200@www.stjosephstemplemore.ie
SUMMARY:U11 Football blitz
DESCRIPTION:
URL:https://www.stjosephstemplemore.ie/event/u11-football-blitz/
END:VEVENT
BEGIN:VEVENT
DTSTART;TZID=Europe/London:20180830T090000
DTEND;TZID=Europe/London:20180830T150000
DTSTAMP:20260425T235522
CREATED:20180521T153456Z
LAST-MODIFIED:20180521T153456Z
UID:498-1535619600-1535641200@www.stjosephstemplemore.ie
SUMMARY:Back to School!
DESCRIPTION:
URL:https://www.stjosephstemplemore.ie/event/back-to-school/
END:VEVENT
BEGIN:VEVENT
DTSTART;TZID=Europe/London:20180703T190000
DTEND;TZID=Europe/London:20180703T210000
DTSTAMP:20260425T235522
CREATED:20180521T153428Z
LAST-MODIFIED:20180521T153428Z
UID:496-1530644400-1530651600@www.stjosephstemplemore.ie
SUMMARY:Book Evening 7-9pm
DESCRIPTION:
URL:https://www.stjosephstemplemore.ie/event/book-evening-7-9pm/
END:VEVENT
BEGIN:VEVENT
DTSTART;TZID=Europe/London:20180629T090000
DTEND;TZID=Europe/London:20180629T120000
DTSTAMP:20260425T235522
CREATED:20180521T153356Z
LAST-MODIFIED:20180521T153356Z
UID:494-1530262800-1530273600@www.stjosephstemplemore.ie
SUMMARY:Summer Holidays
DESCRIPTION:
URL:https://www.stjosephstemplemore.ie/event/summer-holidays/
END:VEVENT
BEGIN:VEVENT
DTSTART;TZID=Europe/London:20180627T093000
DTEND;TZID=Europe/London:20180627T143000
DTSTAMP:20260425T235522
CREATED:20180521T153256Z
LAST-MODIFIED:20180521T153256Z
UID:490-1530091800-1530109800@www.stjosephstemplemore.ie
SUMMARY:Skipping Workshop
DESCRIPTION:
URL:https://www.stjosephstemplemore.ie/event/skipping-workshop/
END:VEVENT
BEGIN:VEVENT
DTSTART;TZID=Europe/London:20180626T080000
DTEND;TZID=Europe/London:20180626T170000
DTSTAMP:20260425T235522
CREATED:20180521T153324Z
LAST-MODIFIED:20180521T153324Z
UID:492-1530000000-1530032400@www.stjosephstemplemore.ie
SUMMARY:1st & 2nd School Tour
DESCRIPTION:
URL:https://www.stjosephstemplemore.ie/event/1st-2nd-school-tour/
END:VEVENT
BEGIN:VEVENT
DTSTART;TZID=Europe/London:20180625T110000
DTEND;TZID=Europe/London:20180625T123000
DTSTAMP:20260425T235522
CREATED:20180618T211355Z
LAST-MODIFIED:20180618T211355Z
UID:644-1529924400-1529929800@www.stjosephstemplemore.ie
SUMMARY:End of Year School Mass
DESCRIPTION:
URL:https://www.stjosephstemplemore.ie/event/end-of-year-school-mass/
END:VEVENT
BEGIN:VEVENT
DTSTART;VALUE=DATE:20180622
DTEND;VALUE=DATE:20180623
DTSTAMP:20260425T235522
CREATED:20180618T211137Z
LAST-MODIFIED:20180618T211137Z
UID:639-1529625600-1529711999@www.stjosephstemplemore.ie
SUMMARY:Sports Day 2018
DESCRIPTION:
URL:https://www.stjosephstemplemore.ie/event/sports-day-2018/
LOCATION:Templemore Town Park
END:VEVENT
BEGIN:VEVENT
DTSTART;TZID=Europe/London:20180614T093000
DTEND;TZID=Europe/London:20180614T143000
DTSTAMP:20260425T235522
CREATED:20180521T153225Z
LAST-MODIFIED:20180521T153225Z
UID:488-1528968600-1528986600@www.stjosephstemplemore.ie
SUMMARY:U13 Ladies County Football Blitz\, Templetuohy
DESCRIPTION:
URL:https://www.stjosephstemplemore.ie/event/u13-ladies-county-football-blitz-templetuohy/
END:VEVENT
BEGIN:VEVENT
DTSTART;TZID=Europe/London:20180612T080000
DTEND;TZID=Europe/London:20180612T150000
DTSTAMP:20260425T235522
CREATED:20180521T153138Z
LAST-MODIFIED:20180521T153138Z
UID:486-1528790400-1528815600@www.stjosephstemplemore.ie
SUMMARY:Senior Infant School Tour
DESCRIPTION:
URL:https://www.stjosephstemplemore.ie/event/senior-infant-school-tour/
END:VEVENT
BEGIN:VEVENT
DTSTART;TZID=Europe/London:20180608T080000
DTEND;TZID=Europe/London:20180608T170000
DTSTAMP:20260425T235522
CREATED:20180521T153105Z
LAST-MODIFIED:20180521T153105Z
UID:484-1528444800-1528477200@www.stjosephstemplemore.ie
SUMMARY:3rd-6th Class School tour!
DESCRIPTION:
URL:https://www.stjosephstemplemore.ie/event/3rd-6th-class-school-tour/
END:VEVENT
BEGIN:VEVENT
DTSTART;TZID=Europe/London:20180605T080000
DTEND;TZID=Europe/London:20180605T170000
DTSTAMP:20260425T235522
CREATED:20180521T152940Z
LAST-MODIFIED:20180521T152940Z
UID:482-1528185600-1528218000@www.stjosephstemplemore.ie
SUMMARY:Junior Infant School Tour!
DESCRIPTION:
URL:https://www.stjosephstemplemore.ie/event/junior-infant-school-tour/
END:VEVENT
BEGIN:VEVENT
DTSTART;TZID=Europe/London:20180531T080000
DTEND;TZID=Europe/London:20180531T170000
DTSTAMP:20260425T235522
CREATED:20180521T152857Z
LAST-MODIFIED:20180521T152857Z
UID:480-1527753600-1527786000@www.stjosephstemplemore.ie
SUMMARY:Thursdays together!
DESCRIPTION:
URL:https://www.stjosephstemplemore.ie/event/thursdays-together/
END:VEVENT
BEGIN:VEVENT
DTSTART;TZID=Europe/London:20180522T080000
DTEND;TZID=Europe/London:20180522T170000
DTSTAMP:20260425T235522
CREATED:20180522T110559Z
LAST-MODIFIED:20180522T110559Z
UID:509-1526976000-1527008400@www.stjosephstemplemore.ie
SUMMARY:Sponsored Walk
DESCRIPTION:We are delighted with the support from all our families & community of Templemore for their generous support towards the school development fund. €3400   has been raised thus far. All the classes want on their sponsored walk on Tuesday May 15th as scheduled! \nWe also held a raffle for card holders. The following were drawn for €10 prize: \n\nFiona Bourke 6th Class\nMolly Ivers  2nd Class\nMaja Boroch  Junior Infants\nKerry McCormack   6th Class\nMikayla Carey   1st Class\nRuth Johnston   5th Class\nAmy O’ Brien  2nd Class\nEllen & Karl O’ Mara 5th class & Senior Infants\nAoife & Dara Naughton  2nd Class & Senior Infants\nLucy & Katie Daly   3rd & 1st Class
URL:https://www.stjosephstemplemore.ie/event/sponsored-walk-2/
END:VEVENT
BEGIN:VEVENT
DTSTART;TZID=Europe/London:20180515T080000
DTEND;TZID=Europe/London:20180515T170000
DTSTAMP:20260425T235522
CREATED:20180418T195229Z
LAST-MODIFIED:20180418T195229Z
UID:419-1526371200-1526403600@www.stjosephstemplemore.ie
SUMMARY:Sponsored Walk
DESCRIPTION:
URL:https://www.stjosephstemplemore.ie/event/sponsored-walk/
END:VEVENT
BEGIN:VEVENT
DTSTART;VALUE=DATE:20180504
DTEND;VALUE=DATE:20180505
DTSTAMP:20260425T235522
CREATED:20180417T230027Z
LAST-MODIFIED:20180418T200415Z
UID:423-1525392000-1525478399@www.stjosephstemplemore.ie
SUMMARY:Open Afternoon
DESCRIPTION:
URL:https://www.stjosephstemplemore.ie/event/open-afternoon/
END:VEVENT
BEGIN:VEVENT
DTSTART;VALUE=DATE:20180501
DTEND;VALUE=DATE:20180502
DTSTAMP:20260425T235522
CREATED:20180418T195047Z
LAST-MODIFIED:20180419T105006Z
UID:417-1525132800-1525219199@www.stjosephstemplemore.ie
SUMMARY:School Photographer
DESCRIPTION:School photographer will attend the school on the 1st of May\, more info to follow.
URL:https://www.stjosephstemplemore.ie/event/school-photgrapher/
END:VEVENT
BEGIN:VEVENT
DTSTART;VALUE=DATE:20180430
DTEND;VALUE=DATE:20180505
DTSTAMP:20260425T235522
CREATED:20180418T195513Z
LAST-MODIFIED:20180418T200750Z
UID:421-1525046400-1525478399@www.stjosephstemplemore.ie
SUMMARY:Arts Week
DESCRIPTION:
URL:https://www.stjosephstemplemore.ie/event/arts-week/
END:VEVENT
BEGIN:VEVENT
DTSTART;VALUE=DATE:20180430
DTEND;VALUE=DATE:20180501
DTSTAMP:20260425T235522
CREATED:20180418T194853Z
LAST-MODIFIED:20180418T200314Z
UID:415-1525046400-1525132799@www.stjosephstemplemore.ie
SUMMARY:Spike Ball Blitz
DESCRIPTION:
URL:https://www.stjosephstemplemore.ie/event/spike-ball-blitz/
END:VEVENT
BEGIN:VEVENT
DTSTART;TZID=Europe/London:20180428T110000
DTEND;TZID=Europe/London:20180428T170000
DTSTAMP:20260425T235522
CREATED:20180418T194619Z
LAST-MODIFIED:20180418T194619Z
UID:413-1524913200-1524934800@www.stjosephstemplemore.ie
SUMMARY:Holy Communion
DESCRIPTION:We hope all of our 2nd class girls have a wonderful day!
URL:https://www.stjosephstemplemore.ie/event/holy-communion/
END:VEVENT
BEGIN:VEVENT
DTSTART;VALUE=DATE:20180214
DTEND;VALUE=DATE:20180220
DTSTAMP:20260425T235522
CREATED:20170824T134510Z
LAST-MODIFIED:20170824T134510Z
UID:129-1518566400-1519084799@www.stjosephstemplemore.ie
SUMMARY:February Mid-Term Break
DESCRIPTION:
URL:https://www.stjosephstemplemore.ie/event/february-mid-term-break/
END:VEVENT
BEGIN:VEVENT
DTSTART;VALUE=DATE:20171222
DTEND;VALUE=DATE:20180109
DTSTAMP:20260425T235522
CREATED:20170824T134400Z
LAST-MODIFIED:20171117T143945Z
UID:127-1513900800-1515455999@www.stjosephstemplemore.ie
SUMMARY:Christmas Holidays
DESCRIPTION:School closes at 12:30 on Friday the 22nd of December and re-opens at 9am on Monday the 8th of January.
URL:https://www.stjosephstemplemore.ie/event/christmas-holidays/
END:VEVENT
BEGIN:VEVENT
DTSTART;TZID=Europe/London:20171116T080000
DTEND;TZID=Europe/London:20171116T170000
DTSTAMP:20260425T235522
CREATED:20171017T152100Z
LAST-MODIFIED:20171017T152100Z
UID:294-1510819200-1510851600@www.stjosephstemplemore.ie
SUMMARY:Parent/Teacher Meetings
DESCRIPTION:
URL:https://www.stjosephstemplemore.ie/event/parentteacher-meetings/
END:VEVENT
BEGIN:VEVENT
DTSTART;VALUE=DATE:20171027
DTEND;VALUE=DATE:20171107
DTSTAMP:20260425T235522
CREATED:20170824T134211Z
LAST-MODIFIED:20170824T134321Z
UID:125-1509062400-1510012799@www.stjosephstemplemore.ie
SUMMARY:October Mid-Term Break
DESCRIPTION:
URL:https://www.stjosephstemplemore.ie/event/october-mid-term-break/
END:VEVENT
BEGIN:VEVENT
DTSTART;TZID=Europe/London:20171026T180000
DTEND;TZID=Europe/London:20171026T200000
DTSTAMP:20260425T235522
CREATED:20171017T152004Z
LAST-MODIFIED:20171017T152004Z
UID:292-1509040800-1509048000@www.stjosephstemplemore.ie
SUMMARY:Halloween Disco
DESCRIPTION:
URL:https://www.stjosephstemplemore.ie/event/halloween-disco/
END:VEVENT
BEGIN:VEVENT
DTSTART;VALUE=DATE:20170831
DTEND;VALUE=DATE:20170901
DTSTAMP:20260425T235522
CREATED:20170824T134057Z
LAST-MODIFIED:20170824T134057Z
UID:123-1504137600-1504223999@www.stjosephstemplemore.ie
SUMMARY:First Day of School Year
DESCRIPTION:
URL:https://www.stjosephstemplemore.ie/event/first-day-of-school-year/
END:VEVENT
END:VCALENDAR