BEGIN:VCALENDAR
VERSION:2.0
PRODID:-//St. Josephs Primary School - ECPv6.15.20//NONSGML v1.0//EN
CALSCALE:GREGORIAN
METHOD:PUBLISH
X-WR-CALNAME:St. Josephs Primary School
X-ORIGINAL-URL:https://www.stjosephstemplemore.ie
X-WR-CALDESC:Events for St. Josephs Primary School
REFRESH-INTERVAL;VALUE=DURATION:PT1H
X-Robots-Tag:noindex
X-PUBLISHED-TTL:PT1H
BEGIN:VTIMEZONE
TZID:Europe/London
BEGIN:DAYLIGHT
TZOFFSETFROM:+0000
TZOFFSETTO:+0100
TZNAME:BST
DTSTART:20170326T010000
END:DAYLIGHT
BEGIN:STANDARD
TZOFFSETFROM:+0100
TZOFFSETTO:+0000
TZNAME:GMT
DTSTART:20171029T010000
END:STANDARD
BEGIN:DAYLIGHT
TZOFFSETFROM:+0000
TZOFFSETTO:+0100
TZNAME:BST
DTSTART:20180325T010000
END:DAYLIGHT
BEGIN:STANDARD
TZOFFSETFROM:+0100
TZOFFSETTO:+0000
TZNAME:GMT
DTSTART:20181028T010000
END:STANDARD
BEGIN:DAYLIGHT
TZOFFSETFROM:+0000
TZOFFSETTO:+0100
TZNAME:BST
DTSTART:20190331T010000
END:DAYLIGHT
BEGIN:STANDARD
TZOFFSETFROM:+0100
TZOFFSETTO:+0000
TZNAME:GMT
DTSTART:20191027T010000
END:STANDARD
BEGIN:DAYLIGHT
TZOFFSETFROM:+0000
TZOFFSETTO:+0100
TZNAME:BST
DTSTART:20200329T010000
END:DAYLIGHT
BEGIN:STANDARD
TZOFFSETFROM:+0100
TZOFFSETTO:+0000
TZNAME:GMT
DTSTART:20201025T010000
END:STANDARD
END:VTIMEZONE
BEGIN:VEVENT
DTSTART;TZID=Europe/London:20190610T080000
DTEND;TZID=Europe/London:20190610T170000
DTSTAMP:20260425T164751
CREATED:20181010T194237Z
LAST-MODIFIED:20181010T194237Z
UID:751-1560153600-1560186000@www.stjosephstemplemore.ie
SUMMARY:Skipping Workshop
DESCRIPTION:
URL:https://www.stjosephstemplemore.ie/event/skipping-workshop-2/
END:VEVENT
BEGIN:VEVENT
DTSTART;TZID=Europe/London:20190603T080000
DTEND;TZID=Europe/London:20190603T170000
DTSTAMP:20260425T164751
CREATED:20181010T194157Z
LAST-MODIFIED:20181010T194157Z
UID:749-1559548800-1559581200@www.stjosephstemplemore.ie
SUMMARY:Bank Holiday
DESCRIPTION:
URL:https://www.stjosephstemplemore.ie/event/bank-holiday-3/
END:VEVENT
BEGIN:VEVENT
DTSTART;TZID=Europe/London:20190521T080000
DTEND;TZID=Europe/London:20190521T170000
DTSTAMP:20260425T164751
CREATED:20190415T194012Z
LAST-MODIFIED:20190415T194012Z
UID:1032-1558425600-1558458000@www.stjosephstemplemore.ie
SUMMARY:Diversity of Cultures Celebration & Flag Raising
DESCRIPTION:
URL:https://www.stjosephstemplemore.ie/event/diversity-of-cultures-celebration-flag-raising/
END:VEVENT
BEGIN:VEVENT
DTSTART;TZID=Europe/London:20190511T080000
DTEND;TZID=Europe/London:20190511T170000
DTSTAMP:20260425T164751
CREATED:20181010T194045Z
LAST-MODIFIED:20181010T194045Z
UID:747-1557561600-1557594000@www.stjosephstemplemore.ie
SUMMARY:Sacrament of Holy Communion
DESCRIPTION:
URL:https://www.stjosephstemplemore.ie/event/sacrament-of-holy-communion/
END:VEVENT
BEGIN:VEVENT
DTSTART;TZID=Europe/London:20190506T080000
DTEND;TZID=Europe/London:20190506T170000
DTSTAMP:20260425T164751
CREATED:20181010T194004Z
LAST-MODIFIED:20181010T194004Z
UID:745-1557129600-1557162000@www.stjosephstemplemore.ie
SUMMARY:Bank Holiday
DESCRIPTION:
URL:https://www.stjosephstemplemore.ie/event/bank-holiday-2/
END:VEVENT
BEGIN:VEVENT
DTSTART;TZID=Europe/London:20190503T080000
DTEND;TZID=Europe/London:20190503T170000
DTSTAMP:20260425T164751
CREATED:20190415T193912Z
LAST-MODIFIED:20190415T193912Z
UID:1030-1556870400-1556902800@www.stjosephstemplemore.ie
SUMMARY:Open Afternoon for incoming pupils Sept '19
DESCRIPTION:
URL:https://www.stjosephstemplemore.ie/event/open-afternoon-for-incoming-pupils-sept-19/
END:VEVENT
BEGIN:VEVENT
DTSTART;TZID=Europe/London:20190430T113000
DTEND;TZID=Europe/London:20190430T123000
DTSTAMP:20260425T164751
CREATED:20190202T135035Z
LAST-MODIFIED:20190202T135035Z
UID:853-1556623800-1556627400@www.stjosephstemplemore.ie
SUMMARY:Marguerite Tonery Author Kapheus Series
DESCRIPTION: 
URL:https://www.stjosephstemplemore.ie/event/marguerite-tonery-author-kapheus-series/
ATTACH;FMTTYPE=image/jpeg:https://www.stjosephstemplemore.ie/wp-content/uploads/2019/02/20190202_134835.jpg
END:VEVENT
BEGIN:VEVENT
DTSTART;TZID=Europe/London:20190429T080000
DTEND;TZID=Europe/London:20190503T170000
DTSTAMP:20260425T164751
CREATED:20181010T193904Z
LAST-MODIFIED:20181010T193904Z
UID:743-1556524800-1556902800@www.stjosephstemplemore.ie
SUMMARY:Arts Week
DESCRIPTION:
URL:https://www.stjosephstemplemore.ie/event/arts-week-2/
END:VEVENT
BEGIN:VEVENT
DTSTART;VALUE=DATE:20190429
DTEND;VALUE=DATE:20190430
DTSTAMP:20260425T164751
CREATED:20190415T193528Z
LAST-MODIFIED:20190415T193528Z
UID:1028-1556496000-1556582399@www.stjosephstemplemore.ie
SUMMARY:John Spillane Visit
DESCRIPTION:
URL:https://www.stjosephstemplemore.ie/event/john-spillane-visit/
END:VEVENT
BEGIN:VEVENT
DTSTART;TZID=Europe/London:20190415T080000
DTEND;TZID=Europe/London:20190429T170000
DTSTAMP:20260425T164751
CREATED:20181010T193637Z
LAST-MODIFIED:20181010T193637Z
UID:741-1555315200-1556557200@www.stjosephstemplemore.ie
SUMMARY:School Closed
DESCRIPTION:
URL:https://www.stjosephstemplemore.ie/event/school-closed-2/
END:VEVENT
BEGIN:VEVENT
DTSTART;TZID=Europe/London:20190412T080000
DTEND;TZID=Europe/London:20190412T170000
DTSTAMP:20260425T164751
CREATED:20181010T193551Z
LAST-MODIFIED:20181010T193551Z
UID:739-1555056000-1555088400@www.stjosephstemplemore.ie
SUMMARY:Happy Easter. Happy Holidays!
DESCRIPTION:
URL:https://www.stjosephstemplemore.ie/event/happy-easter-happy-holidays/
END:VEVENT
BEGIN:VEVENT
DTSTART;TZID=Europe/London:20190405T080000
DTEND;TZID=Europe/London:20190405T170000
DTSTAMP:20260425T164751
CREATED:20181010T193458Z
LAST-MODIFIED:20181010T193458Z
UID:737-1554451200-1554483600@www.stjosephstemplemore.ie
SUMMARY:Sacrament of Confirmation 5th & 6th Class
DESCRIPTION:
URL:https://www.stjosephstemplemore.ie/event/sacrament-of-confirmation-5th-6th-class/
END:VEVENT
BEGIN:VEVENT
DTSTART;TZID=Europe/London:20190329T080000
DTEND;TZID=Europe/London:20190329T170000
DTSTAMP:20260425T164751
CREATED:20190213T144947Z
LAST-MODIFIED:20190213T144947Z
UID:892-1553846400-1553878800@www.stjosephstemplemore.ie
SUMMARY:FAI Soccer Blitz Two-mile-Borris
DESCRIPTION:
URL:https://www.stjosephstemplemore.ie/event/fai-soccer-blitz-two-mile-borris/
END:VEVENT
BEGIN:VEVENT
DTSTART;TZID=Europe/London:20190325T080000
DTEND;TZID=Europe/London:20190325T170000
DTSTAMP:20260425T164751
CREATED:20190213T144921Z
LAST-MODIFIED:20190213T144921Z
UID:890-1553500800-1553533200@www.stjosephstemplemore.ie
SUMMARY:Safer Internet Talks
DESCRIPTION:
URL:https://www.stjosephstemplemore.ie/event/safer-internet-talks/
END:VEVENT
BEGIN:VEVENT
DTSTART;TZID=Europe/London:20190322T080000
DTEND;TZID=Europe/London:20190322T170000
DTSTAMP:20260425T164751
CREATED:20190213T144902Z
LAST-MODIFIED:20190213T144902Z
UID:888-1553241600-1553274000@www.stjosephstemplemore.ie
SUMMARY:Confirmation Retreat Holycross
DESCRIPTION:
URL:https://www.stjosephstemplemore.ie/event/confirmation-retreat-holycross/
END:VEVENT
BEGIN:VEVENT
DTSTART;VALUE=DATE:20190319
DTEND;VALUE=DATE:20190320
DTSTAMP:20260425T164751
CREATED:20190202T133932Z
LAST-MODIFIED:20190202T133932Z
UID:844-1552953600-1553039999@www.stjosephstemplemore.ie
SUMMARY:In Service School Closed
DESCRIPTION:
URL:https://www.stjosephstemplemore.ie/event/in-service-school-closed/
END:VEVENT
BEGIN:VEVENT
DTSTART;TZID=Europe/London:20190318T080000
DTEND;TZID=Europe/London:20190318T170000
DTSTAMP:20260425T164751
CREATED:20181010T193407Z
LAST-MODIFIED:20181010T193407Z
UID:735-1552896000-1552928400@www.stjosephstemplemore.ie
SUMMARY:Bank Holiday
DESCRIPTION:
URL:https://www.stjosephstemplemore.ie/event/bank-holiday/
END:VEVENT
BEGIN:VEVENT
DTSTART;TZID=Europe/London:20190307T090000
DTEND;TZID=Europe/London:20190307T143000
DTSTAMP:20260425T164751
CREATED:20190202T134556Z
LAST-MODIFIED:20190202T134556Z
UID:851-1551949200-1551969000@www.stjosephstemplemore.ie
SUMMARY:Spikeball Event
DESCRIPTION: 
URL:https://www.stjosephstemplemore.ie/event/spikeball-event/
END:VEVENT
BEGIN:VEVENT
DTSTART;TZID=Europe/London:20190306T080000
DTEND;TZID=Europe/London:20190306T170000
DTSTAMP:20260425T164751
CREATED:20190213T144825Z
LAST-MODIFIED:20190213T144825Z
UID:886-1551859200-1551891600@www.stjosephstemplemore.ie
SUMMARY:Concern Debating Round 4
DESCRIPTION:
URL:https://www.stjosephstemplemore.ie/event/concern-debating-round-4/
END:VEVENT
BEGIN:VEVENT
DTSTART;TZID=Europe/London:20190305T193000
DTEND;TZID=Europe/London:20190305T203000
DTSTAMP:20260425T164751
CREATED:20190202T134358Z
LAST-MODIFIED:20190202T134358Z
UID:848-1551814200-1551817800@www.stjosephstemplemore.ie
SUMMARY:Information Eve for Parents
DESCRIPTION:
URL:https://www.stjosephstemplemore.ie/event/information-eve-for-parents/
END:VEVENT
BEGIN:VEVENT
DTSTART;TZID=Europe/London:20190304T080000
DTEND;TZID=Europe/London:20190315T170000
DTSTAMP:20260425T164751
CREATED:20190301T163144Z
LAST-MODIFIED:20190301T163144Z
UID:972-1551686400-1552669200@www.stjosephstemplemore.ie
SUMMARY:Seachtain na Gaeilge
DESCRIPTION:
URL:https://www.stjosephstemplemore.ie/event/seachtain-na-gaeilge/
END:VEVENT
BEGIN:VEVENT
DTSTART;TZID=Europe/London:20190304T080000
DTEND;TZID=Europe/London:20190304T170000
DTSTAMP:20260425T164751
CREATED:20190213T144752Z
LAST-MODIFIED:20190213T144752Z
UID:884-1551686400-1551718800@www.stjosephstemplemore.ie
SUMMARY:6th Class Bake Sale
DESCRIPTION:
URL:https://www.stjosephstemplemore.ie/event/6th-class-bake-sale/
END:VEVENT
BEGIN:VEVENT
DTSTART;TZID=Europe/London:20190218T080000
DTEND;TZID=Europe/London:20190222T170000
DTSTAMP:20260425T164751
CREATED:20181010T193311Z
LAST-MODIFIED:20181010T193311Z
UID:733-1550476800-1550854800@www.stjosephstemplemore.ie
SUMMARY:Midterm School Closed
DESCRIPTION:
URL:https://www.stjosephstemplemore.ie/event/midterm-school-closed/
END:VEVENT
BEGIN:VEVENT
DTSTART;TZID=Europe/London:20190206T110000
DTEND;TZID=Europe/London:20190206T123000
DTSTAMP:20260425T164751
CREATED:20190202T134151Z
LAST-MODIFIED:20190202T134151Z
UID:846-1549450800-1549456200@www.stjosephstemplemore.ie
SUMMARY:Grandparents Day
DESCRIPTION:
URL:https://www.stjosephstemplemore.ie/event/grandparents-day/
END:VEVENT
BEGIN:VEVENT
DTSTART;TZID=Europe/London:20190206T080000
DTEND;TZID=Europe/London:20190206T170000
DTSTAMP:20260425T164751
CREATED:20181010T152332Z
LAST-MODIFIED:20181010T152332Z
UID:726-1549440000-1549472400@www.stjosephstemplemore.ie
SUMMARY:Parent Teacher Meetings for Junior Infants
DESCRIPTION:
URL:https://www.stjosephstemplemore.ie/event/parent-teacher-meetings-for-junior-infants/
END:VEVENT
BEGIN:VEVENT
DTSTART;TZID=Europe/London:20190128T080000
DTEND;TZID=Europe/London:20190201T170000
DTSTAMP:20260425T164751
CREATED:20181220T192307Z
LAST-MODIFIED:20181220T192307Z
UID:786-1548662400-1549040400@www.stjosephstemplemore.ie
SUMMARY:Catholic Schools Week
DESCRIPTION:
URL:https://www.stjosephstemplemore.ie/event/catholic-schools-week/
END:VEVENT
BEGIN:VEVENT
DTSTART;TZID=Europe/London:20190123T080000
DTEND;TZID=Europe/London:20190123T170000
DTSTAMP:20260425T164751
CREATED:20181220T192152Z
LAST-MODIFIED:20181220T192152Z
UID:784-1548230400-1548262800@www.stjosephstemplemore.ie
SUMMARY:First Penance
DESCRIPTION:
URL:https://www.stjosephstemplemore.ie/event/first-penance/
END:VEVENT
BEGIN:VEVENT
DTSTART;TZID=Europe/London:20190107T080000
DTEND;TZID=Europe/London:20190107T170000
DTSTAMP:20260425T164751
CREATED:20181010T193212Z
LAST-MODIFIED:20181010T193212Z
UID:731-1546848000-1546880400@www.stjosephstemplemore.ie
SUMMARY:Happy new year. Back to School!
DESCRIPTION:
URL:https://www.stjosephstemplemore.ie/event/happy-new-year-back-to-school/
END:VEVENT
BEGIN:VEVENT
DTSTART;VALUE=DATE:20190107
DTEND;VALUE=DATE:20190108
DTSTAMP:20260425T164751
CREATED:20181220T191802Z
LAST-MODIFIED:20181220T191802Z
UID:778-1546819200-1546905599@www.stjosephstemplemore.ie
SUMMARY:Back to School!
DESCRIPTION:
URL:https://www.stjosephstemplemore.ie/event/back-to-school-2/
END:VEVENT
BEGIN:VEVENT
DTSTART;TZID=Europe/London:20181222T080000
DTEND;TZID=Europe/London:20190106T170000
DTSTAMP:20260425T164751
CREATED:20181010T194725Z
LAST-MODIFIED:20181010T194725Z
UID:755-1545465600-1546794000@www.stjosephstemplemore.ie
SUMMARY:Christmas holidays
DESCRIPTION:
URL:https://www.stjosephstemplemore.ie/event/christmas-holidays-2/
END:VEVENT
END:VCALENDAR